BEGIN:VCALENDAR
VERSION:2.0
PRODID:-//milkworks.org//NONSGML kigkonsult.se iCalcreator 2.30.10//
CALSCALE:GREGORIAN
METHOD:PUBLISH
UID:ffbc1de4-55c3-4bc1-87c6-3259280aa1a9
X-WR-CALDESC:For new mothers who are returning to work or school outside th
 e home while breastfeeding. Learn the “ins and outs” of pumping\, storing 
 milk\, federal regulations and working with your day care provider. You ma
 y attend while pregnant or after your baby is born. Fee is $20. \n\nPlease
  note: This is an in-person class at our Lincoln location\n
X-WR-RELCALID:89d0115511d60a7b2c9157d8bf42f7d7
X-WR-TIMEZONE:America/Chicago
BEGIN:VTIMEZONE
TZID:America/Chicago
BEGIN:STANDARD
TZNAME:CST
DTSTART:20241103T020000
TZOFFSETFROM:-0500
TZOFFSETTO:-0600
RDATE:20251102T020000
RDATE:20261101T020000
END:STANDARD
BEGIN:DAYLIGHT
TZNAME:CDT
DTSTART:20250309T020000
TZOFFSETFROM:-0600
TZOFFSETTO:-0500
RDATE:20260308T020000
END:DAYLIGHT
END:VTIMEZONE
BEGIN:VEVENT
UID:951f2cc1-e8a7-4142-9074-ad2ed5893b7d
DTSTAMP:20260425T010820Z
DESCRIPTION:For new mothers who are returning to work or school outside the
  home while breastfeeding. Learn the “ins and outs” of pumping\, storing m
 ilk\, federal regulations and working with your day care provider. You may
  attend while pregnant or after your baby is born. Fee is $20. \n\nPlease 
 note: This is an in-person class at our Lincoln location\n
DTSTART;TZID=America/Chicago:20250714T130000
DTEND;TZID=America/Chicago:20250714T150000
LOCATION:Lincoln
SUMMARY:Return to Work {Lincoln}
END:VEVENT
END:VCALENDAR
