BEGIN:VCALENDAR
VERSION:2.0
PRODID:-//milkworks.org//NONSGML kigkonsult.se iCalcreator 2.30.10//
CALSCALE:GREGORIAN
METHOD:PUBLISH
UID:7daa3f06-24dc-4e7a-8d2e-e807a914ea87
X-WR-CALDESC:Esta clase es para futuros padres que se están preparando para
  recibir un recién nacido y quieren amamantar. Esta clase habla de los bás
 icos sobre la lactancia\, los desafíos comunes\, y cómo buscar apoyo. 
X-WR-RELCALID:24c2b0be3ba613eb47e80721f95c2d8c
X-WR-TIMEZONE:America/Chicago
BEGIN:VTIMEZONE
TZID:America/Chicago
BEGIN:STANDARD
TZNAME:CST
DTSTART:20241103T020000
TZOFFSETFROM:-0500
TZOFFSETTO:-0600
RDATE:20251102T020000
RDATE:20261101T020000
END:STANDARD
BEGIN:DAYLIGHT
TZNAME:CDT
DTSTART:20250309T020000
TZOFFSETFROM:-0600
TZOFFSETTO:-0500
RDATE:20260308T020000
END:DAYLIGHT
END:VTIMEZONE
BEGIN:VEVENT
UID:c5e9eb8c-b88c-4052-a8a2-e57cb140ed9c
DTSTAMP:20260425T005846Z
DESCRIPTION:Esta clase es para futuros padres que se están preparando para 
 recibir un recién nacido y quieren amamantar. Esta clase habla de los bási
 cos sobre la lactancia\, los desafíos comunes\, y cómo buscar apoyo. 
DTSTART;TZID=America/Chicago:20250723T180000
DTEND;TZID=America/Chicago:20250723T200000
LOCATION:1533 N 27th Street\, Lincoln\, NE 68503 US
SUMMARY:Todo Sobre la Lactancia {LINCOLN}
END:VEVENT
END:VCALENDAR
