BEGIN:VCALENDAR
VERSION:2.0
PRODID:-//milkworks.org//NONSGML kigkonsult.se iCalcreator 2.30.10//
CALSCALE:GREGORIAN
METHOD:PUBLISH
UID:da3e47f3-7d37-42c6-bf28-dc26b517c538
X-WR-CALDESC:Esta clase habla sobre la lactancia\, los desafios comunes\, y
  como buscar apoyo. Todos los participantes recibiran una bolsa de regalos
  de cortesia con algunos articulos que los ayudaran a comenzar su trayecto
  de lactancia.
X-WR-RELCALID:3a22d517a5e867f3bf927833e2e0d29e
X-WR-TIMEZONE:America/Chicago
BEGIN:VTIMEZONE
TZID:America/Chicago
BEGIN:STANDARD
TZNAME:CST
DTSTART:20241103T020000
TZOFFSETFROM:-0500
TZOFFSETTO:-0600
RDATE:20251102T020000
RDATE:20261101T020000
END:STANDARD
BEGIN:DAYLIGHT
TZNAME:CDT
DTSTART:20250309T020000
TZOFFSETFROM:-0600
TZOFFSETTO:-0500
RDATE:20260308T020000
END:DAYLIGHT
END:VTIMEZONE
BEGIN:VEVENT
UID:5f3af9f9-3984-47a6-aac5-e8cb21afc8d9
DTSTAMP:20260424T232031Z
DESCRIPTION:Esta clase habla sobre la lactancia\, los desafios comunes\, y 
 como buscar apoyo. Todos los participantes recibiran una bolsa de regalos 
 de cortesia con algunos articulos que los ayudaran a comenzar su trayecto 
 de lactancia.
DTSTART;TZID=America/Chicago:20250820T100000
DTEND;TZID=America/Chicago:20250820T120000
LOCATION:1533 N 27th Street\, Lincoln\, NE 68503 US
SUMMARY:Todo Sobre la Lactancia {LINCOLN}
END:VEVENT
END:VCALENDAR
