BEGIN:VCALENDAR
VERSION:2.0
PRODID:-//milkworks.org//NONSGML kigkonsult.se iCalcreator 2.30.10//
CALSCALE:GREGORIAN
METHOD:PUBLISH
UID:8340d61f-38ee-46b2-9223-663976a48fc4
X-WR-CALDESC:In-person class\n\nFor expectant parents - get ready to feed y
 our newborn! This class covers breastfeeding basics\, common challenges an
 d how to get support. Please click the 'register now' button. * If registr
 ation is full\, please call 402-502-0617 to be put on the waiting list.*  
 \n\nFee is $35.\n\nPlease Note: This class plans to meet IN-PERSON at our 
 Omaha Location. If COVID cases rise to a level where we are not comfortabl
 e hosting in-person classes\, you will be notified and given a virtual cla
 ss option for the same day and time. Thank you for your understanding.
X-WR-RELCALID:aad2290edd642b0432cd66c764715437
X-WR-TIMEZONE:America/Chicago
BEGIN:VTIMEZONE
TZID:America/Chicago
BEGIN:STANDARD
TZNAME:CST
DTSTART:20241103T020000
TZOFFSETFROM:-0500
TZOFFSETTO:-0600
RDATE:20251102T020000
RDATE:20261101T020000
END:STANDARD
BEGIN:DAYLIGHT
TZNAME:CDT
DTSTART:20250309T020000
TZOFFSETFROM:-0600
TZOFFSETTO:-0500
RDATE:20260308T020000
RDATE:20270314T020000
END:DAYLIGHT
END:VTIMEZONE
BEGIN:VEVENT
UID:a21efc62-cb55-4c25-9b2a-0b1c0cba523f
DTSTAMP:20260424T200844Z
DESCRIPTION:In-person class\n\nFor expectant parents - get ready to feed yo
 ur newborn! This class covers breastfeeding basics\, common challenges and
  how to get support. Please click the 'register now' button. * If registra
 tion is full\, please call 402-502-0617 to be put on the waiting list.*  
 \n\nFee is $35.\n\nPlease Note: This class plans to meet IN-PERSON at our 
 Omaha Location. If COVID cases rise to a level where we are not comfortabl
 e hosting in-person classes\, you will be notified and given a virtual cla
 ss option for the same day and time. Thank you for your understanding.
DTSTART;TZID=America/Chicago:20251018T100000
DTEND;TZID=America/Chicago:20251018T120000
LOCATION:10818 Elm Street\, Omaha\, AL 68144 US
SUMMARY:All About Breastfeeding - {Omaha}
END:VEVENT
END:VCALENDAR
