BEGIN:VCALENDAR
VERSION:2.0
PRODID:-//milkworks.org//NONSGML kigkonsult.se iCalcreator 2.30.10//
CALSCALE:GREGORIAN
METHOD:PUBLISH
UID:10509f44-b444-443a-a6ff-cbea7d9d289a
X-WR-CALDESC:For new mothers who are returning to work or school outside th
 e home while breastfeeding. Learn the “ins and outs” of pumping\, storing 
 milk\, federal regulations and working with your day care provider. You ma
 y attend while pregnant or after your baby is born. Fee is $20. \n\nPlease
  note: This is an in-person class at our Omaha  location\n
X-WR-RELCALID:b929c03e1f2f53dff56f962001fbf083
X-WR-TIMEZONE:America/Chicago
BEGIN:VTIMEZONE
TZID:America/Chicago
BEGIN:STANDARD
TZNAME:CST
DTSTART:20241103T020000
TZOFFSETFROM:-0500
TZOFFSETTO:-0600
RDATE:20251102T020000
RDATE:20261101T020000
END:STANDARD
BEGIN:DAYLIGHT
TZNAME:CDT
DTSTART:20250309T020000
TZOFFSETFROM:-0600
TZOFFSETTO:-0500
RDATE:20260308T020000
RDATE:20270314T020000
END:DAYLIGHT
END:VTIMEZONE
BEGIN:VEVENT
UID:0f8e820e-fc3d-4983-b2ce-700af9e047ac
DTSTAMP:20260424T200716Z
DESCRIPTION:For new mothers who are returning to work or school outside the
  home while breastfeeding. Learn the “ins and outs” of pumping\, storing m
 ilk\, federal regulations and working with your day care provider. You may
  attend while pregnant or after your baby is born. Fee is $20. \n\nPlease 
 note: This is an in-person class at our Omaha  location\n
DTSTART;TZID=America/Chicago:20251028T130000
DTEND;TZID=America/Chicago:20251028T150000
LOCATION:Omaha
SUMMARY:Return to Work {Omaha}
END:VEVENT
END:VCALENDAR
