BEGIN:VCALENDAR
VERSION:2.0
PRODID:-//milkworks.org//NONSGML kigkonsult.se iCalcreator 2.30.10//
CALSCALE:GREGORIAN
METHOD:PUBLISH
UID:ba613222-9b40-41b2-9230-c63a04bf0c69
X-WR-CALDESC:In-person class\n\nFor expectant parents - get ready to feed y
 our newborn! This class covers breastfeeding basics\, common challenges an
 d how to get support. Please click the 'register now' button. * If registr
 ation is full\, please call 402-502-0617 to be put on the waiting list.*  
 \n\nFee is $35.\n\nPlease Note: This class plans to meet IN-PERSON at our 
 Omaha Location. If COVID cases rise to a level where we are not comfortabl
 e hosting in-person classes\, you will be notified and given a virtual cla
 ss option for the same day and time. Thank you for your understanding.
X-WR-RELCALID:c0f3f0838d18f2bd204cdf352c17696d
X-WR-TIMEZONE:America/Chicago
BEGIN:VTIMEZONE
TZID:America/Chicago
BEGIN:STANDARD
TZNAME:CST
DTSTART:20251102T020000
TZOFFSETFROM:-0500
TZOFFSETTO:-0600
RDATE:20261101T020000
END:STANDARD
BEGIN:DAYLIGHT
TZNAME:CDT
DTSTART:20250309T020000
TZOFFSETFROM:-0600
TZOFFSETTO:-0500
RDATE:20260308T020000
RDATE:20270314T020000
END:DAYLIGHT
END:VTIMEZONE
BEGIN:VEVENT
UID:e2711620-4576-48e8-bd6a-fc34b976a4ac
DTSTAMP:20260424T182829Z
DESCRIPTION:In-person class\n\nFor expectant parents - get ready to feed yo
 ur newborn! This class covers breastfeeding basics\, common challenges and
  how to get support. Please click the 'register now' button. * If registra
 tion is full\, please call 402-502-0617 to be put on the waiting list.*  
 \n\nFee is $35.\n\nPlease Note: This class plans to meet IN-PERSON at our 
 Omaha Location. If COVID cases rise to a level where we are not comfortabl
 e hosting in-person classes\, you will be notified and given a virtual cla
 ss option for the same day and time. Thank you for your understanding.
DTSTART;TZID=America/Chicago:20251213T100000
DTEND;TZID=America/Chicago:20251213T120000
LOCATION:10818 Elm Street\, Omaha\, AL 68144 US
SUMMARY:All About Breastfeeding - {Omaha}
END:VEVENT
END:VCALENDAR
