BEGIN:VCALENDAR
VERSION:2.0
PRODID:-//milkworks.org//NONSGML kigkonsult.se iCalcreator 2.30.10//
CALSCALE:GREGORIAN
METHOD:PUBLISH
UID:9130a415-64c1-4141-866a-1fdc622c5384
X-WR-CALDESC:In-person class\n\nFor expectant parents - get ready to feed y
 our newborn! This class covers breastfeeding basics\, common challenges an
 d how to get support. Please click the 'register now' button. * If registr
 ation is full\, please call 402-502-0617 to be put on the waiting list.*  
 \n\nFee is $35.\n\nPlease Note: This class plans to meet IN-PERSON at our 
 Omaha Location.
X-WR-RELCALID:8f5e1f2313d3fbec37d28c1822a408c8
X-WR-TIMEZONE:America/Chicago
BEGIN:VTIMEZONE
TZID:America/Chicago
BEGIN:STANDARD
TZNAME:CST
DTSTART:20251102T020000
TZOFFSETFROM:-0500
TZOFFSETTO:-0600
RDATE:20261101T020000
END:STANDARD
BEGIN:DAYLIGHT
TZNAME:CDT
DTSTART:20250309T020000
TZOFFSETFROM:-0600
TZOFFSETTO:-0500
RDATE:20260308T020000
RDATE:20270314T020000
END:DAYLIGHT
END:VTIMEZONE
BEGIN:VEVENT
UID:f8a74bb2-3c05-4b00-88fb-60b02a8e2c6d
DTSTAMP:20260424T152542Z
DESCRIPTION:In-person class\n\nFor expectant parents - get ready to feed yo
 ur newborn! This class covers breastfeeding basics\, common challenges and
  how to get support. Please click the 'register now' button. * If registra
 tion is full\, please call 402-502-0617 to be put on the waiting list.*  
 \n\nFee is $35.\n\nPlease Note: This class plans to meet IN-PERSON at our 
 Omaha Location.
DTSTART;TZID=America/Chicago:20260103T100000
DTEND;TZID=America/Chicago:20260103T120000
LOCATION:10818 Elm Street\, Omaha\, NE 68144 US
SUMMARY:All About Breastfeeding - {Omaha}
END:VEVENT
END:VCALENDAR
