BEGIN:VCALENDAR
VERSION:2.0
PRODID:-//milkworks.org//NONSGML kigkonsult.se iCalcreator 2.30.10//
CALSCALE:GREGORIAN
METHOD:PUBLISH
UID:e77d11ff-f14f-4ba7-8812-a82bb68ae91c
X-WR-CALDESC:Esta clase es de forma virtual a través de Zoom y habla sobre 
 la lactancia\, los desafios comunes\, y como buscar apoyo.
X-WR-RELCALID:98ae661574c7917ddb5a212e944f5120
X-WR-TIMEZONE:America/Chicago
BEGIN:VTIMEZONE
TZID:America/Chicago
BEGIN:STANDARD
TZNAME:CST
DTSTART:20251102T020000
TZOFFSETFROM:-0500
TZOFFSETTO:-0600
RDATE:20261101T020000
END:STANDARD
BEGIN:DAYLIGHT
TZNAME:CDT
DTSTART:20260308T020000
TZOFFSETFROM:-0600
TZOFFSETTO:-0500
RDATE:20270314T020000
END:DAYLIGHT
END:VTIMEZONE
BEGIN:VEVENT
UID:7f2e8d58-1a81-4d61-9d4f-eb0443457bad
DTSTAMP:20260424T122354Z
DESCRIPTION:Esta clase es de forma virtual a través de Zoom y habla sobre l
 a lactancia\, los desafios comunes\, y como buscar apoyo.
DTSTART;TZID=America/Chicago:20260312T183000
DTEND;TZID=America/Chicago:20260312T203000
LOCATION:
SUMMARY:Todo Sobre la Lactancia: Virtual desde Lincoln
END:VEVENT
END:VCALENDAR
