BEGIN:VCALENDAR
VERSION:2.0
PRODID:-//milkworks.org//NONSGML kigkonsult.se iCalcreator 2.30.10//
CALSCALE:GREGORIAN
METHOD:PUBLISH
UID:c92c737b-f316-4469-967a-1c56184f1238
X-WR-CALDESC:For expectant parents - get ready to feed your newborn! This c
 lass covers breastfeeding basics\, common challenges and how to get suppor
 t. Please click the 'register now' button. *If registration is full\, plea
 se call 402-502-0617 to be put on the waiting list.*   \n\nPlease note\, t
 his is a virtual class.  Fee is $35. \n\nTo ensure the best experience for
  everyone\, our classes require a minimum of 2 participants. If the minimu
 m isn’t met\, we may need to cancel the class. In that case\, we’ll notify
  you at least 24 hours before the scheduled start time and provide options
  for rescheduling or a refund.
X-WR-RELCALID:f36dc59ecb0dd799ba5bffb068448f2e
X-WR-TIMEZONE:America/Chicago
BEGIN:VTIMEZONE
TZID:America/Chicago
BEGIN:STANDARD
TZNAME:CST
DTSTART:20251102T020000
TZOFFSETFROM:-0500
TZOFFSETTO:-0600
RDATE:20261101T020000
END:STANDARD
BEGIN:DAYLIGHT
TZNAME:CDT
DTSTART:20260308T020000
TZOFFSETFROM:-0600
TZOFFSETTO:-0500
RDATE:20270314T020000
END:DAYLIGHT
END:VTIMEZONE
BEGIN:VEVENT
UID:8cd8770f-d3b7-4954-99b3-a0cdf1a28eb9
DTSTAMP:20260424T104411Z
DESCRIPTION:For expectant parents - get ready to feed your newborn! This cl
 ass covers breastfeeding basics\, common challenges and how to get support
 . Please click the 'register now' button. *If registration is full\, pleas
 e call 402-502-0617 to be put on the waiting list.*   \n\nPlease note\, th
 is is a virtual class.  Fee is $35. \n\nTo ensure the best experience for 
 everyone\, our classes require a minimum of 2 participants. If the minimum
  isn’t met\, we may need to cancel the class. In that case\, we’ll notify 
 you at least 24 hours before the scheduled start time and provide options 
 for rescheduling or a refund.
DTSTART;TZID=America/Chicago:20260407T173000
DTEND;TZID=America/Chicago:20260407T193000
LOCATION:MilkWorks
SUMMARY:All About Breastfeeding [VIRTUAL]
END:VEVENT
END:VCALENDAR
