BEGIN:VCALENDAR
VERSION:2.0
PRODID:-//milkworks.org//NONSGML kigkonsult.se iCalcreator 2.30.10//
CALSCALE:GREGORIAN
METHOD:PUBLISH
UID:c6172511-d6fa-4d90-b9fa-8df602bd9d51
X-WR-CALDESC:Esta clase es de forma virtual a través de Zoom y habla sobre 
 la lactancia\, los desafios comunes\, y como buscar apoyo.
X-WR-RELCALID:d0a1ded3d252a6c7497338b549f59b98
X-WR-TIMEZONE:America/Chicago
BEGIN:VTIMEZONE
TZID:America/Chicago
BEGIN:STANDARD
TZNAME:CST
DTSTART:20251102T020000
TZOFFSETFROM:-0500
TZOFFSETTO:-0600
RDATE:20261101T020000
END:STANDARD
BEGIN:DAYLIGHT
TZNAME:CDT
DTSTART:20260308T020000
TZOFFSETFROM:-0600
TZOFFSETTO:-0500
RDATE:20270314T020000
END:DAYLIGHT
END:VTIMEZONE
BEGIN:VEVENT
UID:a19cb507-04bc-4735-a759-8bc8e84a411f
DTSTAMP:20260424T104539Z
DESCRIPTION:Esta clase es de forma virtual a través de Zoom y habla sobre l
 a lactancia\, los desafios comunes\, y como buscar apoyo.
DTSTART;TZID=America/Chicago:20260409T183000
DTEND;TZID=America/Chicago:20260409T203000
LOCATION:
SUMMARY:Todo Sobre la Lactancia: Virtual desde Lincoln
END:VEVENT
END:VCALENDAR
