BEGIN:VCALENDAR
VERSION:2.0
PRODID:-//milkworks.org//NONSGML kigkonsult.se iCalcreator 2.30.10//
CALSCALE:GREGORIAN
METHOD:PUBLISH
UID:6437dbc6-026f-4545-8aab-cf0dd7cdf9e8
X-WR-CALDESC:Esta clase es de forma virtual a través de Zoom y habla sobre 
 la lactancia\, los desafios comunes\, y como buscar apoyo.
X-WR-RELCALID:876ed29f9895fc4c287119fa52e7d401
X-WR-TIMEZONE:America/Chicago
BEGIN:VTIMEZONE
TZID:America/Chicago
BEGIN:STANDARD
TZNAME:CST
DTSTART:20251102T020000
TZOFFSETFROM:-0500
TZOFFSETTO:-0600
RDATE:20261101T020000
RDATE:20271107T020000
END:STANDARD
BEGIN:DAYLIGHT
TZNAME:CDT
DTSTART:20260308T020000
TZOFFSETFROM:-0600
TZOFFSETTO:-0500
RDATE:20270314T020000
END:DAYLIGHT
END:VTIMEZONE
BEGIN:VEVENT
UID:e478c5e0-464b-4942-9851-7a52c68cf8fa
DTSTAMP:20260424T120310Z
DESCRIPTION:Esta clase es de forma virtual a través de Zoom y habla sobre l
 a lactancia\, los desafios comunes\, y como buscar apoyo.
DTSTART;TZID=America/Chicago:20260514T183000
DTEND;TZID=America/Chicago:20260514T203000
LOCATION:
SUMMARY:Todo Sobre la Lactancia: Virtual
END:VEVENT
END:VCALENDAR
