BEGIN:VCALENDAR
VERSION:2.0
PRODID:-//milkworks.org//NONSGML kigkonsult.se iCalcreator 2.30.10//
CALSCALE:GREGORIAN
METHOD:PUBLISH
UID:79d314fc-f479-4789-948c-812326240ac7
X-WR-CALDESC:MilkWorks is thrilled to bring back our Mommy & Me Photoshoot!
  This special event features talented\, local family photographer Christa 
 Schiessl Photography and gives you an opportunity to support the work we d
 o at MilkWorks. \n\nWith your donation of $80 for one parent or $120 to in
 clude your partner\, you will receive a five-minute\, mini photo session a
 nd two professionally edited photos of your family. Your exact call time w
 ill be provided in a follow up email.
X-WR-RELCALID:0508ec631f18d1481acad44a9f66a798
X-WR-TIMEZONE:America/Chicago
BEGIN:VTIMEZONE
TZID:America/Chicago
BEGIN:STANDARD
TZNAME:CST
DTSTART:20251102T020000
TZOFFSETFROM:-0500
TZOFFSETTO:-0600
RDATE:20261101T020000
RDATE:20271107T020000
END:STANDARD
BEGIN:DAYLIGHT
TZNAME:CDT
DTSTART:20260308T020000
TZOFFSETFROM:-0600
TZOFFSETTO:-0500
RDATE:20270314T020000
END:DAYLIGHT
END:VTIMEZONE
BEGIN:VEVENT
UID:3a679524-5a4c-44c2-8223-a3729903cf73
DTSTAMP:20260424T122220Z
DESCRIPTION:MilkWorks is thrilled to bring back our Mommy & Me Photoshoot! 
 This special event features talented\, local family photographer Christa S
 chiessl Photography and gives you an opportunity to support the work we do
  at MilkWorks. \n\nWith your donation of $80 for one parent or $120 to inc
 lude your partner\, you will receive a five-minute\, mini photo session an
 d two professionally edited photos of your family. Your exact call time wi
 ll be provided in a follow up email.
DTSTART;TZID=America/Chicago:20260531T130000
DTEND;TZID=America/Chicago:20260531T150000
LOCATION:5930 South 58th Street\, Lincoln\, NE 68516 US
SUMMARY:Mommy & Me Mini Photoshoot (LINCOLN)
END:VEVENT
END:VCALENDAR
