BEGIN:VCALENDAR
VERSION:2.0
PRODID:-//milkworks.org//NONSGML kigkonsult.se iCalcreator 2.30.10//
CALSCALE:GREGORIAN
METHOD:PUBLISH
UID:65b003e9-64fc-430e-8729-1f2ca761221b
X-WR-CALDESC:MilkWorks is thrilled to bring back our Mommy & Me Photoshoot!
  This special event features talented\, local family photographer Penny La
 yne Photography and gives you an opportunity to support the work we do at 
 MilkWorks. \n\nWith your donation of $80 for one parent or $120 to include
  your partner\, you will receive a five-minute\, mini photo session and tw
 o professionally edited photos of your family. Your exact call time will b
 e provided in a follow up email.
X-WR-RELCALID:2c27041d29065403f110b83226f7414c
X-WR-TIMEZONE:America/Chicago
BEGIN:VTIMEZONE
TZID:America/Chicago
BEGIN:STANDARD
TZNAME:CST
DTSTART:20251102T020000
TZOFFSETFROM:-0500
TZOFFSETTO:-0600
RDATE:20261101T020000
RDATE:20271107T020000
END:STANDARD
BEGIN:DAYLIGHT
TZNAME:CDT
DTSTART:20260308T020000
TZOFFSETFROM:-0600
TZOFFSETTO:-0500
RDATE:20270314T020000
END:DAYLIGHT
END:VTIMEZONE
BEGIN:VEVENT
UID:2cb20d53-899d-4234-a515-236fbfcba068
DTSTAMP:20260424T123143Z
DESCRIPTION:MilkWorks is thrilled to bring back our Mommy & Me Photoshoot! 
 This special event features talented\, local family photographer Penny Lay
 ne Photography and gives you an opportunity to support the work we do at M
 ilkWorks. \n\nWith your donation of $80 for one parent or $120 to include 
 your partner\, you will receive a five-minute\, mini photo session and two
  professionally edited photos of your family. Your exact call time will be
  provided in a follow up email.
DTSTART;TZID=America/Chicago:20260531T130000
DTEND;TZID=America/Chicago:20260531T150000
LOCATION:10818 Elm Street\, Omaha\, NE 68144 US
SUMMARY:Mommy & Me Mini Photoshoot (OMAHA)
END:VEVENT
END:VCALENDAR
