BEGIN:VCALENDAR
VERSION:2.0
PRODID:-//milkworks.org//NONSGML kigkonsult.se iCalcreator 2.30.10//
CALSCALE:GREGORIAN
METHOD:PUBLISH
UID:4c54b243-5e40-4ba8-af55-41a4ae01d5b1
X-WR-CALDESC:Esta clase es de forma virtual a través de Zoom y habla sobre 
 la lactancia\, los desafios comunes\, y como buscar apoyo.
X-WR-RELCALID:7fb7df21bbe38d31a48767230796684e
X-WR-TIMEZONE:America/Chicago
BEGIN:VTIMEZONE
TZID:America/Chicago
BEGIN:STANDARD
TZNAME:CST
DTSTART:20251102T020000
TZOFFSETFROM:-0500
TZOFFSETTO:-0600
RDATE:20261101T020000
RDATE:20271107T020000
END:STANDARD
BEGIN:DAYLIGHT
TZNAME:CDT
DTSTART:20260308T020000
TZOFFSETFROM:-0600
TZOFFSETTO:-0500
RDATE:20270314T020000
END:DAYLIGHT
END:VTIMEZONE
BEGIN:VEVENT
UID:8e68c553-9550-47f5-9a6e-ed5408db58d4
DTSTAMP:20260424T133126Z
DESCRIPTION:Esta clase es de forma virtual a través de Zoom y habla sobre l
 a lactancia\, los desafios comunes\, y como buscar apoyo.
DTSTART;TZID=America/Chicago:20260611T183000
DTEND;TZID=America/Chicago:20260611T203000
LOCATION:
SUMMARY:Todo Sobre la Lactancia: Virtual
END:VEVENT
END:VCALENDAR
